BEGIN:VCALENDAR
PRODID:-//hacksw/handcal//NONSGML v1.0//EN
VERSION:2.0
METHOD:PUBLISH
BEGIN:VEVENT
DTSTART:20140821T213000Z
DTEND:20140821T233000Z
LOCATION:Stuart Corinthian Yacht Club
UID:1069220140821T213000ZSeason Kick-off Barbecue
DTSTAMP:20260419T115059Z
DESCRIPTION:
SUMMARY:Season Kick-off Barbecue - Martin County Estate Planning Council 
PRIORITY:3
BEGIN:VALARM
TRIGGER:PT18H
ACTION:DISPLAY
DESCRIPTION:Reminder
END:VALARM
END:VEVENT
END:VCALENDAR