BEGIN:VCALENDAR
PRODID:-//hacksw/handcal//NONSGML v1.0//EN
VERSION:2.0
METHOD:PUBLISH
BEGIN:VEVENT
DTSTART:20151015T213000Z
DTEND:20151015T233000Z
LOCATION:Stuart Corinthian Yacht Club
UID:1227020151015T213000ZDinner Meeting - Charitable Giving
DTSTAMP:20260419T114300Z
DESCRIPTION:
SUMMARY:Dinner Meeting - Charitable Giving - Martin County Estate Planning Council 
PRIORITY:3
BEGIN:VALARM
TRIGGER:PT18H
ACTION:DISPLAY
DESCRIPTION:Reminder
END:VALARM
END:VEVENT
END:VCALENDAR