BEGIN:VCALENDAR
PRODID:-//hacksw/handcal//NONSGML v1.0//EN
VERSION:2.0
METHOD:PUBLISH
BEGIN:VEVENT
DTSTART:20170420T213000Z
DTEND:20170420T233000Z
LOCATION:Stuart Corinthian Yacht Club
UID:1422620170420T213000ZDinner Meeting: 
DTSTAMP:20260419T114300Z
DESCRIPTION:
SUMMARY:Dinner Meeting:  - Martin County Estate Planning Council 
PRIORITY:3
BEGIN:VALARM
TRIGGER:PT18H
ACTION:DISPLAY
DESCRIPTION:Reminder
END:VALARM
END:VEVENT
END:VCALENDAR