BEGIN:VCALENDAR
PRODID:-//hacksw/handcal//NONSGML v1.0//EN
VERSION:2.0
METHOD:PUBLISH
BEGIN:VEVENT
DTSTART:20241206T220000Z
DTEND:20241207T000000Z
LOCATION:Ocean Republic Brewing: 1630 SE Federal Hwy, Stuart, FL 34994
UID:2644720241206T220000ZMCEPC December 2024 Happy Hour
DTSTAMP:20260419T115059Z
DESCRIPTION:
SUMMARY:MCEPC December 2024 Happy Hour - Martin County Estate Planning Council 
PRIORITY:3
BEGIN:VALARM
TRIGGER:PT18H
ACTION:DISPLAY
DESCRIPTION:Reminder
END:VALARM
END:VEVENT
END:VCALENDAR