BEGIN:VCALENDAR
PRODID:-//hacksw/handcal//NONSGML v1.0//EN
VERSION:2.0
METHOD:PUBLISH
BEGIN:VEVENT
DTSTART:20251016T213000Z
DTEND:20251016T233000Z
LOCATION:The Elliott Museum (825 NE Ocean Blvd, Stuart, FL 34996)
UID:2810120251016T213000ZMCECP October 2025 Dinner Meeting
DTSTAMP:20260419T120734Z
DESCRIPTION:\nAdam Smith founded BizTx Law to help clients make well-informed, strategic decisions that optimize outcomes. As a seasoned tax attorney, he understands the unique challenges that startups and growth-stage businesses face. He advises clients at all stages of the business lifecycle, from startup to exit and beyond.\n
SUMMARY:MCECP October 2025 Dinner Meeting - Martin County Estate Planning Council 
PRIORITY:3
BEGIN:VALARM
TRIGGER:PT18H
ACTION:DISPLAY
DESCRIPTION:Reminder
END:VALARM
END:VEVENT
END:VCALENDAR