BEGIN:VCALENDAR
PRODID:-//hacksw/handcal//NONSGML v1.0//EN
VERSION:2.0
METHOD:PUBLISH
BEGIN:VEVENT
DTSTART:20251120T133000Z
DTEND:20251120T150000Z
LOCATION:The Elliott Museum (825 NE Ocean Blvd, Stuart, FL 34996)
UID:2810220251120T133000ZMCECP November 2025 Breakfast Meeting
DTSTAMP:20260419T115337Z
DESCRIPTION:\nThank you to our Charitable Sponsor Cleveland Clinic:\n \n\n \nThank you to our corporate sponsor PNC Private Bank:\n \n\n
SUMMARY:MCECP November 2025 Breakfast Meeting - Martin County Estate Planning Council 
PRIORITY:3
BEGIN:VALARM
TRIGGER:PT18H
ACTION:DISPLAY
DESCRIPTION:Reminder
END:VALARM
END:VEVENT
END:VCALENDAR