BEGIN:VCALENDAR
PRODID:-//hacksw/handcal//NONSGML v1.0//EN
VERSION:2.0
METHOD:PUBLISH
BEGIN:VEVENT
DTSTART:20260624T190000Z
DTEND:20260624T193000Z
LOCATION:Virtual
UID:2945220260624T190000ZNAEPC Town Hall
DTSTAMP:20260421T155926Z
DESCRIPTION:\n\n \n[REGISTER HERE](https://www.councildues.council.naepc.org/events/event/29451)\n
SUMMARY:NAEPC Town Hall - Martin County Estate Planning Council 
PRIORITY:3
BEGIN:VALARM
TRIGGER:PT18H
ACTION:DISPLAY
DESCRIPTION:Reminder
END:VALARM
END:VEVENT
END:VCALENDAR