BEGIN:VCALENDAR
PRODID:-//hacksw/handcal//NONSGML v1.0//EN
VERSION:2.0
METHOD:PUBLISH
BEGIN:VEVENT
DTSTART:20140220T223000Z
DTEND:20140221T003000Z
LOCATION:Stuart Corinthian Yacht Club
UID:735120140220T223000ZMCEPC February Dinner Meeting
DTSTAMP:20260419T115518Z
DESCRIPTION:
SUMMARY:MCEPC February Dinner Meeting - Martin County Estate Planning Council 
PRIORITY:3
BEGIN:VALARM
TRIGGER:PT18H
ACTION:DISPLAY
DESCRIPTION:Reminder
END:VALARM
END:VEVENT
END:VCALENDAR